BEGIN:VCALENDAR
VERSION:2.0
PRODID:-//UPAIIA - ECPv6.15.20//NONSGML v1.0//EN
CALSCALE:GREGORIAN
METHOD:PUBLISH
X-WR-CALNAME:UPAIIA
X-ORIGINAL-URL:https://upaiia.com
X-WR-CALDESC:Events for UPAIIA
REFRESH-INTERVAL;VALUE=DURATION:PT1H
X-Robots-Tag:noindex
X-PUBLISHED-TTL:PT1H
BEGIN:VTIMEZONE
TZID:UTC
BEGIN:STANDARD
TZOFFSETFROM:+0000
TZOFFSETTO:+0000
TZNAME:UTC
DTSTART:20160101T000000
END:STANDARD
END:VTIMEZONE
BEGIN:VTIMEZONE
TZID:America/Detroit
BEGIN:DAYLIGHT
TZOFFSETFROM:-0500
TZOFFSETTO:-0400
TZNAME:EDT
DTSTART:20150308T070000
END:DAYLIGHT
BEGIN:STANDARD
TZOFFSETFROM:-0400
TZOFFSETTO:-0500
TZNAME:EST
DTSTART:20151101T060000
END:STANDARD
BEGIN:DAYLIGHT
TZOFFSETFROM:-0500
TZOFFSETTO:-0400
TZNAME:EDT
DTSTART:20160313T070000
END:DAYLIGHT
BEGIN:STANDARD
TZOFFSETFROM:-0400
TZOFFSETTO:-0500
TZNAME:EST
DTSTART:20161106T060000
END:STANDARD
BEGIN:DAYLIGHT
TZOFFSETFROM:-0500
TZOFFSETTO:-0400
TZNAME:EDT
DTSTART:20170312T070000
END:DAYLIGHT
BEGIN:STANDARD
TZOFFSETFROM:-0400
TZOFFSETTO:-0500
TZNAME:EST
DTSTART:20171105T060000
END:STANDARD
END:VTIMEZONE
BEGIN:VEVENT
DTSTART;TZID=UTC:20190911T080000
DTEND;TZID=UTC:20190913T170000
DTSTAMP:20260421T091610
CREATED:20190301T222258Z
LAST-MODIFIED:20190304T201522Z
UID:306-1568188800-1568394000@upaiia.com
SUMMARY:91st Annual UPAIIA Convention
DESCRIPTION:Holiday Inn\, Marquette \nWednesday\, September 11 – Friday\, September 13\, 2019 \nDetails and Registration to follow \nClick this link to sponsor this event:\nCompany & Exhibitor Sponsorship Form
URL:https://upaiia.com/event/91st-annual-upaiia-convention/
LOCATION:Holiday Inn\, 1951 US 41\, Marquette\, MI\, 49855\, United States
END:VEVENT
BEGIN:VEVENT
DTSTART;TZID=UTC:20190611T080000
DTEND;TZID=UTC:20190611T170000
DTSTAMP:20260421T091610
CREATED:20190301T222103Z
LAST-MODIFIED:20190301T222103Z
UID:303-1560240000-1560272400@upaiia.com
SUMMARY:38th Annual UPAIIA Annual Golf Outing
DESCRIPTION:June 11\, 2019 \nSage Run Course at the Island Resort and Casino\,\nHarris\, MI
URL:https://upaiia.com/event/38th-annual-upaiia-annual-golf-outing/
LOCATION:Island Resort and Casino\, W 399 US-2\, Harris\, MI\, 49845\, United States
END:VEVENT
BEGIN:VEVENT
DTSTART;TZID=UTC:20180912T080000
DTEND;TZID=UTC:20180914T170000
DTSTAMP:20260421T091610
CREATED:20180305T231757Z
LAST-MODIFIED:20180305T231757Z
UID:282-1536739200-1536944400@upaiia.com
SUMMARY:90th Annual UPAIIA Convention
DESCRIPTION:Mission Point Resort\, Mackinac Island \nWednesday\, September 12 – Friday\, September 14\, 2018 \nDetails and Registration to follow
URL:https://upaiia.com/event/90th-annual-upaiia-convention/
LOCATION:Mission Point Resort\, One Lakeshore Drive\, Mackinac Island\, MI\, 49757\, United States
END:VEVENT
BEGIN:VEVENT
DTSTART;TZID=UTC:20180628T110000
DTEND;TZID=UTC:20180628T200000
DTSTAMP:20260421T091610
CREATED:20180305T231447Z
LAST-MODIFIED:20180606T002702Z
UID:279-1530183600-1530216000@upaiia.com
SUMMARY:37th Annual UPAIIA Annual Golf Outing
DESCRIPTION:Thursday\, June 28 at Timberstone Golf Course \n\nCheck-In/Registration – 11:00 am\nShotgun Start – 12:00 pm\nSocial Hour – 4:30 pm\nDinner – 6:00 pm\n\n   \nAgent Raffle upon completion of dinner \n\nCOMPANY PRIZE DONATIONS FOR AGENT RAFFLE ARE WELCOME & APPRECIATED\nAttach company card or name clearly on items; bring to outing or send to Elissa Howe\n\n   \nRegistration Options\n\n1) $85/person – Golf (includes green fee and cart)\, Box Lunch\, and Dinner\n2) $70/person – Golf (includes green fee and cart)\, Box Lunch\n3) $30/person – Dinner Only\n\n**Beverages on the course and during the social hour are included in the registration fee** \n***PLEASE NOTE: If multiple people will be participating from your agency/company\, you must register each individual separately*** \n   \nHotel Accommodations\nPine Mountain Resort\nN3322 Pine Mountain Road\, Iron Mountain\, MI\n906-774-2747\n**Pine Mountain Resort is located adjacent to Timberstone** \nHoliday Inn Express & Suites\n1535 N Stephenson Ave\, Iron Mountain\, MI\n906-774-1668 \nCountry Inn & Suites\n2005 S Stephenson Ave\, Iron Mountain\, MI\n906-774-1900
URL:https://upaiia.com/event/upaiia-annual-golf-outing/
LOCATION:Timberstone Golf Course\, N3332 Pine Mountain Rd\, Iron Mountain\, MI\, 49801\, United States
END:VEVENT
BEGIN:VEVENT
DTSTART;TZID=UTC:20180327T080000
DTEND;TZID=UTC:20180329T120000
DTSTAMP:20260421T091610
CREATED:20180226T225853Z
LAST-MODIFIED:20180226T230256Z
UID:269-1522137600-1522324800@upaiia.com
SUMMARY:UPAIIA Life Insurance Pre-Licensing Course
DESCRIPTION:Click to download PDF. \nLearn more about instructor Gerald Wick\, CFP\, CLU\, ChFC.
URL:https://upaiia.com/event/upaiia-life-insurance-pre-licensing-course/
LOCATION:The Landmark Inn\, 230 North Front Street\, Marquette\, MI\, 49855\, United States
ORGANIZER;CN="Elissa Howe":MAILTO:elissasimone8@gmail.com
END:VEVENT
BEGIN:VEVENT
DTSTART;VALUE=DATE:20170913
DTEND;VALUE=DATE:20170916
DTSTAMP:20260421T091610
CREATED:20170525T010928Z
LAST-MODIFIED:20170525T010948Z
UID:263-1505260800-1505519999@upaiia.com
SUMMARY:89th Annual UPAIIA Convention
DESCRIPTION:Event details & registration to come
URL:https://upaiia.com/event/89th-annual-upaiia-convention/
LOCATION:Houghton\, MI\, Houghton\, MI\, 49931\, United States
END:VEVENT
BEGIN:VEVENT
DTSTART;TZID=UTC:20170615T110000
DTEND;TZID=UTC:20170615T200000
DTSTAMP:20260421T091610
CREATED:20170525T005710Z
LAST-MODIFIED:20170525T011248Z
UID:249-1497524400-1497556800@upaiia.com
SUMMARY:36th Annual UPAIIA Golf Outing
DESCRIPTION:The golf outing will be held on Thursday\, June 15th at Marquette Golf Club\, Heritage Course in beautiful Marquette! \nNEW THIS YEAR!  UPAIIA will be hosting a two hour CE course taught by ServPro prior to the start of our golf outing.  The class is FREE to UPAIIA members. The class will be held at The Holiday Inn\, Marquette with registration starting at 8:30am and class starting promptly at 9:00am.  \nPlease register here for CE \nAll golf registration will need to be completed online.  Simply click on the link and follow the instructions to registering and making the payment online.  If multiple individuals from your company/agency will be attending the outing each will need to complete the registration.\nUPAIIA Golf Outing Registration \nHole sponsorship opportunity for our company associates. Please contact Jolee Hughes (jolee@hhinsagency.com) for details on becoming a hole sponsor.
URL:https://upaiia.com/event/36th-annual-golf-outing/
LOCATION:Heritage Golf Course\, 1075 Grove St\, Marquette\, MI\, 49855\, United States
END:VEVENT
BEGIN:VEVENT
DTSTART;TZID=UTC:20170615T083000
DTEND;TZID=UTC:20170615T110000
DTSTAMP:20260421T091610
CREATED:20170525T010157Z
LAST-MODIFIED:20170525T010412Z
UID:254-1497515400-1497524400@upaiia.com
SUMMARY:New! FREE CE Credit Class from ServPro
DESCRIPTION:NEW THIS YEAR!  UPAIIA will be hosting a two hour CE course taught by ServPro prior to the start of our golf outing. The class is FREE to UPAIIA members. \nThe class will be held at The Holiday Inn\, Marquette with registration starting at 8:30am and class starting promptly at 9:00am.  Please Register Here for CE. \nMore Information \n 
URL:https://upaiia.com/event/new-this-year-free-ce-credit-class-from-servpro/
LOCATION:Holiday Inn\, 1951 US 41\, Marquette\, MI\, 49855\, United States
END:VEVENT
BEGIN:VEVENT
DTSTART;TZID=America/Detroit:20160914T080000
DTEND;TZID=America/Detroit:20160916T170000
DTSTAMP:20260421T091610
CREATED:20160407T212214Z
LAST-MODIFIED:20160407T212931Z
UID:240-1473840000-1474045200@upaiia.com
SUMMARY:88th Annual UPAIIA Convention
DESCRIPTION:Join us for the 88th Annual UPAIIA Convention\nSeptember 14 – 16\, 2016 at the Island Resort & Casino\, Harris\nAdditional details and event registration will be available soon! \n  \n 
URL:https://upaiia.com/event/88th-annual-upaiia-convention/
LOCATION:Island Resort and Casino\, W399 US2\, Harris\, MI\, 49845
END:VEVENT
BEGIN:VEVENT
DTSTART;TZID=America/Detroit:20160616T110000
DTEND;TZID=America/Detroit:20160616T190000
DTSTAMP:20260421T091610
CREATED:20141022T200824Z
LAST-MODIFIED:20160608T215854Z
UID:196-1466074800-1466103600@upaiia.com
SUMMARY:UPAIIA 35th Annual UP Agents Golf Outing
DESCRIPTION:UPAIIA 35th Annual UP Agents Golf Outing\nJune 16\, 2016\nRiverside Golf Club\n \nMenominee\, MI \nRegister Here! \n 
URL:https://upaiia.com/event/up-agents-golf-outing/
LOCATION:Riverside Golf Club\, 3459 14th Ave\, Menominee\, 49858
END:VEVENT
END:VCALENDAR